BEGIN:VCALENDAR
VERSION:2.0
PRODID:http://www.pr-neuwied.de
BEGIN:VEVENT
UID:a086d76b-3cd8-11f1-a3e9-0242ac11002b-1782824400000-de
DTSTAMP:20260420T164732Z
DTSTART:20260630T130000Z
SUMMARY;LANGUAGE=de:Pilgerreise nach Lissabon, Fatima und Santiago de Compostela
DESCRIPTION;LANGUAGE=de:vom 7. bis 16. September 2026!\nfrühzeitige Anmeldung erbeten: bis 30. Juni 2026!\nGeistliche Begleitung: Pater Franz Widmaier\nPilgerreise\nnach Lissabon\, Fatima und Santiago de Compostela\nLeistungen und Preise:\nFlug mit Linienmaschinen der Lufthansa in der Economyklasse \nUnterbringung im Doppelzimmer mit Bad bzw. Dusche/WC in Hotels der gehobenen Kategorie in Portugal\,\nmittlere Kategorie in Santiago \nHalbpension \nBusfahrten lt. Programm (Tage 1-8)\nTransfer von Santiago zum Flughafen Porto \nEintrittsgelder \nPortweinprobe \nGinjinha Verkostung \nBootsfahrt in Aveiro \nKopfhörer \nGeistliche Begleitung und einheimische Reiseleitung in Portugal (Tage 1 bis 8) sowie halbtägige Stadtführung in Santiago de Compostela (alle deutschsprachig)\nPreis pro Person im Doppelzimmer:\nab/bis Frankfurt € 2.198\,-\nZuschlag Einzelzimmer € 442\,-\n(Keine Anzahlung erforderlich!)
LOCATION;LANGUAGE=de:Lissabon\, Sintra\, Cabo da Roca\, Cascais\, \, Óbidos\, Nazaré\, Fatima\, Aveiro\, Braga\, \, Porto\, Santiago de Compostela
IMAGE;VALUE=URI;DISPLAY=BADGE;FMTTYPE=image/jpeg:http://www.pr-neuwied.de/export/sites/pastr/neuwied/.galleries/bilder/PR-NR-AA-TV-2026-09-07-16-Pilgerreise-SantiagoDeCompostela-c-LuxBlueFotolia.com-bayerischesPilgerbuero.jpg
END:VEVENT
END:VCALENDAR
