BEGIN:VCALENDAR
VERSION:2.0
PRODID:http://www.pr-neuwied.de
BEGIN:VEVENT
UID:d2764e22-6bd5-11f0-bb44-0242ac11002b-1757079000000-de
DTSTAMP:20250728T171055Z
DTSTART:20250905T133000Z
SUMMARY;LANGUAGE=de:"MehrWert in der Backstuff" geht weiter …
DESCRIPTION;LANGUAGE=de:Was gibt dir Heimat?\nNach einem gelungenen Start im Juni laden die Initiatorinnen zu einem zweiten Treffen mit "MehrWert" ein:\nFreitag\, 5. September 2025\nab 15.30 Uhr Ankommen\nab ca. 16.30 Uhr Austausch\n"Backstuff" im Café Hommer\nBurghofstraße 12\, 56566 Neuwied-Heimbach-Weis\nDieses Mal geht es um das Thema "Heimat":\nWas gibt uns Heimat? Ein Ort\, ein Gefühl?\n… sicherlich schwer zu greifen und so individuell wie wir Menschen sind.\nMachen wir uns gemeinsam auf die Suche nach dem "MehrWert" HEIMAT - ein Nachmittag für Menschen zwischen 44 und 66 Jahren - für Suchende\, Fragende\, Glaubende und Zweifelnde…\nKomm\, wie du bist. Du bist willkommen. Herzliche Einladung.\nnähere Informationen:\nPetra Frey\, Tel. 02631 / 7 34 22\, E-Mail: p.frey@katholisch-neuwied.de
LOCATION;LANGUAGE=de:"Backstuff" im Café Hommer\, Burghofstraße 12 \, 56566 Neuwied-Heimbach-Weis
IMAGE;VALUE=URI;DISPLAY=BADGE;FMTTYPE=image/jpeg:http://www.pr-neuwied.de/export/sites/pastr/neuwied/.galleries/bilder/PR-NR-AA-TV-2025-09-05-MehrWert-c-PastRNR-neu.png
END:VEVENT
END:VCALENDAR
